BEGIN:VCALENDAR
PRODID:-//eluceo/ical//2.0/EN
VERSION:2.0
CALSCALE:GREGORIAN
BEGIN:VEVENT
UID:f9b349f073d370fe843a926aef489021
DTSTAMP:20260424T083457Z
SUMMARY:Conférence - Témoignage de Mme Lili Keller Rosenberg
DESCRIPTION:Referenten/innen: Lili LEIGNEL
URL:https://armentieres.rotaryd1520.org/de/agenda/show/52957
DTSTART;TZID=Europe/Zurich:20260113T193000
DTEND;TZID=Europe/Zurich:20260113T220000
LOCATION:Salle Agoralys Erquinghem-Lys
CATEGORIES:Rotary
END:VEVENT
BEGIN:VTIMEZONE
TZID:Europe/Zurich
BEGIN:STANDARD
DTSTART:20260113T193000
TZNAME:CET
TZOFFSETTO:+0100
TZOFFSETFROM:+0100
END:STANDARD
END:VTIMEZONE
END:VCALENDAR
